BEGIN:VCALENDAR
VERSION:2.0
METHOD:PUBLISH
PRODID:-//Telerik Inc.//Sitefinity CMS 15.4//EN
BEGIN:VTIMEZONE
TZID:Central Standard Time
BEGIN:STANDARD
DTSTART:20251102T020000
RRULE:FREQ=YEARLY;BYDAY=1SU;BYHOUR=2;BYMINUTE=0;BYMONTH=11
TZNAME:Central Standard Time
TZOFFSETFROM:-0500
TZOFFSETTO:-0600
END:STANDARD
BEGIN:DAYLIGHT
DTSTART:20250301T020000
RRULE:FREQ=YEARLY;BYDAY=2SU;BYHOUR=2;BYMINUTE=0;BYMONTH=3
TZNAME:Central Daylight Time
TZOFFSETFROM:-0600
TZOFFSETTO:-0500
END:DAYLIGHT
END:VTIMEZONE
BEGIN:VEVENT
DESCRIPTION:Join Gies Online for an engaging session on how our flexible\, 
 online-by-design programs can support your unique educational goals. Disco
 ver how you can begin with a Coursera MOOC\, explore a non-degree course\,
  earn a graduate certificate\, or pursue a master’s degree—with the abilit
 y to stack credentials in a way that works best for you. You can even stac
 k a master’s degree into an MBA! You’ll also hear from a current student w
 ho successfully stacked their credentials at Gies. Don’t miss this chance 
 to explore what’s possible with Gies Business!Register today!
DTEND:20260625T000000Z
DTSTAMP:20260425T125035Z
DTSTART:20260624T230000Z
LOCATION:Virtual
SEQUENCE:0
SUMMARY:MOOCs to Master's: How to Stack Gies Business Credentials
UID:RFCALITEM639127002355683528
X-ALT-DESC;FMTTYPE=text/html:<p>Join Gies Online for an engaging session on
  how our flexible\, online-by-design programs can support your unique educ
 ational goals. Discover how you can begin with a Coursera MOOC\, explore a
  non-degree course\, earn a graduate certificate\, or pursue a master’s de
 gree—with the ability to stack credentials in a way that works best for yo
 u. You can even stack a master’s degree into an MBA! You’ll also hear from
  a current student who successfully stacked their credentials at Gies. Don
 ’t miss this chance to explore what’s possible with Gies Business!</p><p><
 a href="https://choose.illinois.edu/register/moocs-to-masters-20260624" ta
 rget="_blank">Register today</a><span data-sheets-value="{" for="" data-sh
 eets-userformat="{">!</span></p>
END:VEVENT
END:VCALENDAR
